BEGIN:VCALENDAR
VERSION:2.0
PRODID:-//Burnt Biskits - ECPv6.15.11//NONSGML v1.0//EN
CALSCALE:GREGORIAN
METHOD:PUBLISH
X-WR-CALNAME:Burnt Biskits
X-ORIGINAL-URL:https://burntbiskits.com
X-WR-CALDESC:Events for Burnt Biskits
REFRESH-INTERVAL;VALUE=DURATION:PT1H
X-Robots-Tag:noindex
X-PUBLISHED-TTL:PT1H
BEGIN:VTIMEZONE
TZID:America/New_York
BEGIN:DAYLIGHT
TZOFFSETFROM:-0500
TZOFFSETTO:-0400
TZNAME:EDT
DTSTART:20250309T070000
END:DAYLIGHT
BEGIN:STANDARD
TZOFFSETFROM:-0400
TZOFFSETTO:-0500
TZNAME:EST
DTSTART:20251102T060000
END:STANDARD
BEGIN:DAYLIGHT
TZOFFSETFROM:-0500
TZOFFSETTO:-0400
TZNAME:EDT
DTSTART:20260308T070000
END:DAYLIGHT
BEGIN:STANDARD
TZOFFSETFROM:-0400
TZOFFSETTO:-0500
TZNAME:EST
DTSTART:20261101T060000
END:STANDARD
BEGIN:DAYLIGHT
TZOFFSETFROM:-0500
TZOFFSETTO:-0400
TZNAME:EDT
DTSTART:20270314T070000
END:DAYLIGHT
BEGIN:STANDARD
TZOFFSETFROM:-0400
TZOFFSETTO:-0500
TZNAME:EST
DTSTART:20271107T060000
END:STANDARD
END:VTIMEZONE
BEGIN:VEVENT
DTSTART;TZID=America/New_York:20260428T150000
DTEND;TZID=America/New_York:20260428T160000
DTSTAMP:20260424T084749
CREATED:20260313T133507Z
LAST-MODIFIED:20260313T133507Z
UID:637-1777388400-1777392000@burntbiskits.com
SUMMARY:Burnt Biskits 2 at The Brant in Gretna
DESCRIPTION:
URL:https://burntbiskits.com/event/burnt-biskits-2-at-the-brant-in-gretna/
LOCATION:The Brant\, 6991 S 178th Plz\,\, Omaha\, NE\, 68136\, United States
END:VEVENT
END:VCALENDAR